Workbook

Sheet START
B3: Local and National Resources
B4: Select the resources you are interested in below or utilize the tabs on the bottom.
B6: Master List (A-Z) | D6: Female Resources | F6: Social Services
B8: Master List (Type) | D8: Domestic Violence | F8: Youth Mental Health & Resources
B10: Grief & Trauma Counselors | D10: LGBTQIA+ | F10: Mental Health
B12: Police & First Responders | D12: Disabilities | F12: Cancer Support
B14: Books, Docs, & Podcasts | D14: Senior Advocacy & Services | F14: Substance Use
B16: Food and Low-Income Resources | D16: Suicide Prevention | F16: Rebranded or Relocated Resources
B18: Last Updated 8/25/2025

Sheet Master List Resources&Referrals
A1: Company/ Organization | B1: Service(s) | C1: Address | D1: Address 2 | E1: City | F1: State | G1: Zip | H1: Phone | I1: Email | J1: Website | K1: Notes
A2: A Kid Again | B2: Adventures for kids with life-threatening conditions, and support. Similar to Make-a-Wish. | H2: (614) 797-9500 | I2: customerservice@akidagain.org | J2: https://akidagain.org/chapter/michigan/ | K2: Adventures are fun, accessible, stress-free outings for families raising a child with a life-threatening condition. They are held at destinations like theme parks, sporting events, entertainment centers, and museums, and everything is provided: admission, food, and parking. Chapters in several states, including Michigan.
A3: A.J. Desmond & Sons Funeral Directors | B3: Free Grief aftercare program called Perspectives - Available to clients and non-clients | C3: 2600 Crooks Rd | E3: Troy | F3: MI | G3: 48084 | H3: (248)362-2500 | I3: CrooksRd@AJDesmond.com | J3: https://www.desmondfuneralhome.com/resources/grief-support | K3: Events led by Linda Dzbanski, LLMSW, BSW, plus online resources.
A4: ACMH | B4: Association for Children’s Mental Health | C4: 6017 W. St. Joseph Hwy | D4: Suite #200 | E4: Lansing | F4: MI | G4: 48917 | H4: (517) 372-4016 Parent Line: (888) ACMH-KID (888-226-4543) | J4: www.acmh-mi.org | K4: ACMH provides information, support, resources, referral and advocacy for children and youth with mental, emotional, or behavioral disorders and their families.
A5: AgeWays | B5: Support for Seniors and Caregivers | H5: 833-262-2200 800-852-7795 | I5: wellnessprograms@ageways.com | J5: https://www.ageways.org/ https://www.ageways.org/caregiver-resources/ | K5: AgeWays provides programs and resources that give older adults and family caregivers the extra support they need. Whether it's in-home care programs, Meals on Wheels, or help with understanding care options. Serving Livingston, Macomb, Monroe, Oakland, St. Clair and Washtenaw counties.
A6: Alzheimer's Association Greater Michigan Chapter | B6: 24/7 Alzheimer's Helpline | C6: 25200 Telegraph Rd | D6: Suite #100 | E6: Southfield | F6: MI | G6: 48033 | H6: 800-272-3900 248-351-0280 | J6: https://www.alz.org/gmc | K6: 24/7 Helpline in over 200 languages, Resources for those with Alzheimers, as well as for Caregivers' health.
A7: American Association of Suicidology | B7: Geared toward Mental Health Professionals: Podcast, training, community support for suicide prevention | C7: 5221 Wisconsin Ave | D7: NW | E7: Washington | F7: DC | G7: 20015 | H7: 202-237-2280 800-273-TALK | J7: https://suicidology.org/ | K7: The American Association of Suicidology (AAS) provides comprehensive resources to help navigate your journey with suicide and mental health. AAS also offers a national directory of support groups that focus on a variety of survivors of suicide.
A8: Anchors Perinatal Program | B8: Hospice - Perinatal Grief (pregnancy, infant loss) | H8: 888-247-5704 | J8: https://anchors4children.org/perinatal-program/ | K8: Through Arbor Hospice - The Anchors Perinatal Program provides emotional, social and clinical support to expectant parents as they anticipate and prepare for the birth of their child while also grieving the anticipated loss of the child during pregnancy, birth, or shortly after. The program also assists parents with birth planning during this most difficult time.
A9: Arbor Hospice | B9: Grief Groups and Events in-person and virtual | C9: Multiple Group Locations | H9: 7347945127 | J9: https://arborhospice.org/grief-journey-program/ | K9: Categories: Grief After Dementia, Hope After Loss, Journey Through Grief, Living On, Memorial Services, Men Overcoming Loss
A10: Bayt Al-Zahra Case Management Program | B10: Basic Needs and Social Work Services for Women, Children, and Recent Refugees | H10: (313) 429-1245 | I10: info@zamaninternational.org | J10: https://zamaninternational.org/basic-needs | K10: Bayt Al-Zahra (The House of Light and Hope). Through a strengths-based case management program, BAZ case managers aim to guide clients to set goals and connect them to a range of benefits to access food, housing, legal aide, health insurance, and childcare. Currently, the program supports client families, hosts seasonal drives; and offers integration support for refugee families. Through relationships with partner organizations throughout the region, BAZ's case management team eliminates barriers and motivates clients to secure all the benefits and services they need to live a more sustainable life. Women seeking services through Zaman are screened using a self-sufficiency assessment to identify and prioritize their needs. They then collaborate with their BAZ caseworker to design an action plan that removes barriers to success and captures benchmarks. Through regular meetings, Zaman tracks progress in the areas of food security, housing stability, employment/finances, childcare, adult education, healthcare coverage, life skills, mobility/access to transportation, and mental wellness.
A11: Blue H.E.L.P. | B11: Support for Families of First Responders who died by Suicide - | I11: contact@1sthelp.org | J11: https://bluehelp.org/ | K11: It is the mission of Blue H.E.L.P. to reduce mental health stigma through education, advocate for benefits for those suffering from post-traumatic stress, acknowledge the service and sacrifice of law enforcement officers we lost to suicide, support families after a suicide and to bring awareness to suicide and mental health issues. Family Support: A suicide loss is unique, it can be difficult for families to share their experience with others who have not suffered the same type of loss. With the loss of thousands of law enforcement officers to suicide, we can put you in touch with another family who has experienced LEO suicide and knows what you are going through. No judgement, no stigma; just compassion and understanding. Care packages which honor your loved ones are shipped to you and events customized to your needs are hosted for and by you.
A12: Brighton Center for Recovery (Formerly Ascension-Brighton) | B12: Substance Use Treatment | H12: (248) 661-6100 | J12: https://www.henryford.com/services/behavioral-health/addiction/brighton | K12: Outpatient treatment, Intensive Outpatient, and Residential (inpatient) addiction treatment
A13: BrightStar Care | B13: RN-Supervised Home Care | H13: 866-618-7827 E. Lansing 517-679-1700 Ann Arbor/Brighton-Howell 810-225-4000 Novi 248-449-5110 | J13: https://www.brightstarcare.com/ | K13: HOME CARE · Assisted living · medical staffing - Unparalleled Home Care and Support BrightStar Care® provides high-quality home care, assisted living and staffing support to those who need it most. Whether it’s support for a loved one or an organization, we’re here to go above and beyond. We call it A Higher Standard®.
A14: C.O.P.E. (Community Outreach for Psychiatric Emergencies) | B14: Mental Health Crisis for residents of Wayne County | C14: 33505 Schoolcraft | E14: Livonia | F14: MI | G14: 48150 | H14: 734-721-0200 844-296-2673 | J14: https://www.cope24-7.net/ | K14: COPE offers a continuum of organized and coordinated crisis and community-based outreach services. 24-Hour Walk-In Center. Provides pre-admission review services to adults who live in Wayne County, are experiencing a behavioral health crisis and have Medicaid, Healthy Michigan, MI Health Link, or no insurance coverage
A15: Camp Good Grief | B15: Grief Camp for ages 8-17 through Hospice of Michigan. One-Day camp offered on different dates at different locations during the summer. | C15: Multiple Locations | H15: 888-247-5701 | J15: https://www.hom.org/camp-good-grief/ | K15: Registration opens in spring. Each camp offers: Activities facilitated by caring and qualified Master’s-level grief support counselors who are specially-trained to work with grief-related issues. Board-Certified Music Therapists who use carefully selected music and rhythms to help campers cope with loss. Hospice-trained volunteers who help ensure that each camper is supported during the day’s programs and activities. Pet volunteers and their friendly pets who bring companionship.
A16: Canton Club 55+ | B16: Monthly workshops for caregivers, Activities for Seniors 55+ | C16: 46000 Summit Parkway | D16: Summit on the Park Recreation Center | E16: Canton | F16: MI | G16: 48188 | H16: 7343945485 | J16: https://cantonmi.gov/476/Club-55-Plus-Senior-Center | K16: Activities, Events, Card Games,
A17: CapTel | B17: Real Time Captions telephone for no cost | H17: 2485506866 | I17: jennifer.weallans@oeius.org | J17: https://www.oeius.org/ | K17: Requirements: Hearing loss, High Speed Internet, Electrical outlet. (Standard dial-tone phone service required in some cases). The phones are up to 4x louder than a regular phone, have tone controll, and auto or assisted captions. Answering machine with voice & captions of messages.
A18: Caregiving Haven | B18: Resources and help for Caregivers through The Senior Alliance | H18: 7347222830 | I18: info@thesenioralliance.org | J18: www.CaregivingHaven.org | K18: The Caregiving Haven is a one-stop source for guidance, tools, resources, and connections that empower caregivers and their loved ones to focus on enjoying a fulfilling life together. Supporting you as a caregiver is our top priority. The Senior Alliance is here to ease your way as you care for a loved one. Use our resource directory to get access to things like meal delivery, caregiving services, in-home help, and more.
A19: Center for Loss & Life Transition | B19: Grief Education, Resources, and Training | C19: 3735 Broken Bow Rd | E19: Fort Collins | F19: CO | G19: 80526 | H19: 970-226-6050 | I19: info@centerforloss.com DrWolfelt@centerforloss.com | J19: https://www.centerforloss.com/ | K19: Resources, education, training and referral for bereaved families; provides a certificate program in Death and Grief studies for bereavement professionals.
A20: Center for Loss in Multiple Birth (CLIMB) | B20: Grief Support for loss of one or all children in a multiple pregnancy (Twin, Triplet, etc.) | C20: Center for Loss in Multiple Birth (CLIMB), Inc | D20: P.O. Box 190401 | E20: Anchorage | F20: AK | G20: 99519 | H20: phone/skype upon request | I20: centerforlossinmultiplebirth@gmail.com (Jean Kollantai) | J20: https://www.climb-support.org/ | K20: Support for parents, grandparents, siblings of loss of an infant from multiple pregnancy/birth or after. Recently added support for loss of an older twin child(ren) (including triplets, quads, other multiples) Website Languages: English, En español/Spanish, En français/French, По-русски/In Russian, 用中文/In Chinese
A21: Child Mind Institute | B21: Childrens Mental Health Support | J21: https://childmind.org/
A22: City of Farmington Hills - Adults 50 and Better | B22: Services for Caregivers and Adults aged 50 and up. | C22: Costick Activities Center | D22: 28600 Eleven Mile Rd. | E22: Farmington Hills | F22: MI | G22: 48336 | H22: 248-473-1830 | J22: https://www.fhgov.com/play-explore-learn/adults-50-better/ | K22: Daily events are held at the Costick Activities Center, Monday-Friday, 9:00 AM-4:00 PM, with scheduled evening and weekend programs. Please see “The Messenger", the Adults 50 & Better Program’s monthly newsletter, and the Special Services Activities Guide for updated information on all available programs and services.
A23: Common Ground Behavioral Health | B23: Behavioral Health, Crisis and Resources, Behavioral Virtual Urgent Care. Ages 12 and up. | C23: 1200 N. Telegraph Road | D23: Building 32E | E23: Pontiac | F23: MI | G23: 48341 | H23: Crisis (24/7): 800‑231‑1127 Urgent Care: 248-983-5454 | J23: https://commongroundhelps.org/ | K23: 24/7 Crisis Line to connect callers with service providers. Virtual Urgent Care during scheduled hours: Mon/Tues/Thurs/Fri 11am-8pm according to website as of 3/2025 (may change). Most insurances accepted, and there is an out-of pocket cap for appointments.
A24: Communication Access Center for Deaf and Hard of Hearing | B24: ASL Classes, Community Interpreting program, Senior Citizens Support. Zoom interpreting available for Deaf, DeafBlind, and Hard of Hearing. Weekly Wellness Group in ASL. | C24: 214 E. Main St. | D24: Unit 103 | E24: Flushing | F24: MI | G24: 48433 | H24: Phone: (810) 239-3112 VideoPhone: (810) 620-8490 (810) 250-7010 Fax: (810) 239-1606 After Hours: (810) 239-3112 | I24: info@cacdhh.org tmiracle@cacdhh.org (mentoring interpreters online) | J24: https://www.cacdhh.org/ | K24: Interpreting Services for the Deaf, Hard of Hearing, and DeafBlind people in Flint, Genesee County & Michigan. Zoom interpreting available. Interpreting settings include but are not limited to:medical, mental health, legal/court, educational, corporate meetings/trainings, counseling and seminars/conferences. Interpreter mentoring. Weekly wellness group in ASL, with possibility of transportation to/from group.
A25: Community Resource Directory by findhelp | B25: Search and Connect to Social Care | J25: https://communityresources.trinity-health.org/ | K25: Website helps find local resources by Zip Code and Type of need. Site has translation available to dozens of languages.
A26: Compassionate Friends | B26: Grief support for child loss (of any age) | C26: 900 Jorie Blvd | D26: Suite 78 | E26: Oak Brook | F26: IL | G26: 60523 | H26: 877-969-0010 | I26: nationaloffice@compassionatefriends.org | J26: https://www.compassionatefriends.org/ https://www.compassionatefriends.org/find-support/chapters/chapter-locator/ | K26: Support Groups both Virtual and In-Person, searchable by location. Some locations include a sibling group for children under 12 during the regular group for everyone else.
A27: Copline | B27: Helpline for Police | H27: 8002675463 | K27: 24/7
A28: Copline - An Officer's Lifeline | B28: Peer-Lead Crisis Hotline for Police Officers (active, previous, or retired) and their family members. Run entirely by Police Officers and their Family Members. | H28: 24/7 Hotline Calls: 1-800-COPLINE 1-800-267-5463 Non-COPLINE calls: 1-732-577-8300 Ext. 8 | J28: https://www.copline.org/ | K28: COPLINE® IS OPERATIONAL 24 HOURS A DAY / 7 DAYS A WEEK Calls will be answered by a Retired Active Peer Listener - All calls and emails are strictly 100% CONFIDENTIAL COPLINE® has earned the trust of the Law Enforcement community by providing active listening through a hotline by maintaining complete confidentiality as well as anonymity if the caller chooses. We train competent, confident, committed, and compassionate retired officers to engage with callers on the daily stressors officers and their family members experience.
A29: Corewell Health (previously Beaumont) - School Based Clinic - Pierce Middle School | B29: Pediatric care clinic & Adolescent Health Center | C29: 25605 Orangelawn | E29: Redford | F29: MI | G29: 48329 | H29: (313) 242-0570 | J29: https://www.beaumont.org/services/teen-services | K29: Pediatric care clinic & Adolescent Health Center- Pierce, a School Based Health Center located in Pierce Middle School. We serve ages 10 to 21 years old living in Redford Twp and surrounding communities. Insurance accepted but not required. Services are not denied due to inability to pay.
A30: Crime Stoppers of Michigan | B30: Support for: Crime Victims and their Families. 100% Anonymous Tip Line, Monetary reward for tips leading to an arrest. | C30: 18000 W. Nine Mile Rd | D30: Suite 500 | E30: Southfield | F30: MI | G30: 48075 | H30: Report a Crime: 1 800 SPEAK UP (800-773-2587) Follow-Up on a tip: 313-922-5000 x117 313-922-5000 x114 | I30: info@michiganalliance.org | J30: https://www.1800speakup.org/ | K30: SERVICES WE PROVIDE Posters, Door Hangers, Social Media Posts, Press Conferences, Geo-Fencing*, Billboards*, Family Support, Community Presentations, Supporting Community Resource Groups, Research Initiatives *Note: All of our services are free except for billboard and geo-fencing.
A31: Crisis Text Line | B31: Helpline for First Responders | H31: Text BADGE or 741-741 | K31: 24/7
A32: Crossroads | B32: Resources and Services for low-income populations. Listed in Notes section. | C32: 2424 West Grand Boulevard | E32: Detroit | F32: MI | G32: 48208 | H32: (313) 831-2000 | I32: info@crossroadsofmichigan.org | J32: www.crossroadsofmichigan.org | K32: Resources: Transportation (Bus Tickets), Birth certificate retrieval, Identification retrieval, Food, Clothing, Personal hygiene products, Diapers, Formula, Baby clothing. Supports: Lifetime Opportunities for Children, Permanent Employment coaching, Crisis Reduction and Long-Term Stability, Fulfilling Immediate Needs, Weekly Hot Meals, Children’s Summer Lunch
A33: Crossroads Care Center | B33: Baby Loss Support Group and Individual | C33: 3205 South Blvd | E33: Auburn Hills | F33: MI | G33: 48326 | H33: 248-293-0070 800-712-HELP | I33: info@crossroadscarecenter.org | J33: https://crossroadscarecenter.org/blossm.html
A34: DBSA | B34: Depression and Bipolar Support Alliance - Groups and Resources | C34: 55 E Jackson Blvd | D34: Suite 490 | E34: Chicago | F34: IL | G34: 60604 | H34: (312) 642-0049 | I34: metrodetroitdbsa@gmail.com | J34: https://www.dbsalliance.org/support/chapters-and-support-groups/find-a-support-group/?state=MI | K34: In-Person and Virtual Support Groups for people with Depression or Bipolar Disorder. Email and web address is for the Metro Detroit Chapter/Michigan Chapter. Other states also have chapters.
A35: Deaf Community Advocacy Network (DEAF C.A.N) | B35: Interpreting Services, Mental Health services, The Deaf HIV Program, Domestic Violence/Sexual Assault services in ASL. For Deaf, DeafBlind, and Hard of Hearing people from children to senior citizens. | C35: 2111 Orchard Lake Road | D35: #101 | E35: Sylvan Lake | F35: MI | G35: 48320 | H35: Videophone: 248-209-6437 Voice: 248-332-3331 | I35: deafcan@deafcan.org seniorcitizen@deafcan.org | J35: https://www.deafcan.org/ | K35: We offer outpatient services for Deaf, DeafBlind, and Hard of Hearing children, adolescents, and adults in Southeastern Michigan and for persons that are primary caretakers of someone in their household that is Deaf, Deaf-Blind, or Hard of Hearing. Clients will receive services from therapists fluent in American Sign Language (ASL).
A36: Death Cafe | B36: Peer group - Any loss type | C36: Crazy Wisdom Bookstore | D36: 114 S Main St | E36: Ann Arbor | F36: MI | G36: 48104 | I36: Ann Arbor: thedyingyear@gmail.com | J36: https://www.facebook.com/DeathCafeAnnArbor Upcoming/Other locations: https://deathcafe.com/deathcafes/ Virtual Meetings: ttps://deathcafe.com/search/?search=Virtual&all=all | K36: Meets monthly on the second floor of Crazy Wisdom Bookstore. Check their facebook page for the next meeting date. "The Ann Arbor Death Cafe meets monthly and we usually have 25-35 participants with a good mix of newcomers and returers, young and old, all gender identities. The discussion is facilitated by Merilynne Rush and/or Diana Cramer. Any questions? Please contact Merilynne at thedyingyear@gmail.com."
A37: Dementia Resources offered by the Jewish Community | B37: Dementia Resources | H37: 2485922650 | K37: Adult day program, Caregiver support/training, Caregiver Support Groups, ElderCare Solutions of Michigan, Engaging Minds using Cognitive Stimulation Therapy, Residential assisted living, Gray Matters free monthly workshop, Jewish Hospice and Chaplaincy Network, Memory Cafe, Mind Aerobics to help slow cognitive decline.
A38: Detroit Wayne Integrated Health Network | B38: Crisis and Mental health in Detroit and Wayne County. Mobile Crisis Units. | C38: DWIHN | D38: 707 W. Milwaukee Ave | E38: Detroit | F38: MI | G38: 48202-2943 | H38: (313) 344-9099 (313) 833-2500 TTY: (800) 630-1044 TDD: 711 Crisis: 1-800-241-4949 | I38: accesscenter@dwihn.org | J38: https://www.dwihn.org/ | K38: DWIHN supports and serves individuals in Wayne County with serious mental illness, children with serious emotional disturbance, people with autism, individuals with intellectual and developmental disabilities and those with substance use disorder. Mobile Crisis Units available. LGBTQ+ Services for youth 10-21+. Children 14+ can have up to 12 sessions or 3 months without requiring permission from their parents, if the child requests it.
A39: Developing K.I.D.S. | B39: (Developing Kingdoms in Different Stages) Free High Quality Programs In Detroit For Youth, Their Families, And Community Members | C39: 24230 W. McNichols St. | E39: Detroit | F39: MI | G39: 48219 | H39: Phone & Fax: 888-294-6554 | I39: info@developingkids.org | J39: www.developingkids.org | K39: Youth Development afterschool and summer camp activities for ages 5-18: College Readiness, Entrepreneurship, Life Skills & Social Development, Mental Health & Wellness, Community Service, Academic Enrichment & Homework Help Workforce Development We empower individuals ages 14-24 with essential skills for a seamless entry into the professional world. Ongoing support for personal and professional growth, Summer employment opportunities, Job placements, mentorships & incentives Community Engagement Provide Resources & Referrels, Special Events & Projects, Workforce Development, Support for Alumni (college, trade school, adulthood, workforce)
A40: DVS - Division of Victim Services - Michigan Department of Health and Human Services | B40: Crime Victim Services - for Domestic Violence, Sexual Assault | H40: (877) 251-7373 | I40: Crime Victim Compensation MDHHS-MichiganCrimeVictim@Michigan.gov Domestic & Sexual Violence Prevention & Treatment Board MDHHS-MDSVPTBMembers@Michigan.gov Crime Victim Services Commission MDHHS-CVSC-Members@michigan.gov Human Trafficking Health Advisory Board MDHHS-HTHAB@michigan.gov | J40: https://www.michigan.gov/mdhhs/safety-injury-prev/publicsafety/crimevictims | K40: The Division of Victim Services (DVS) provides a voice advocating for and responding to all victims of crime in Michigan. DVS administers nearly 600 contracts that fund over 200 community-based programs, Tribes, and government partners across Michigan that provide vital services to victims, such as counseling, legal and medical advocacy, emergency housing, and crime victims’ rights advocacy. The Division also provides reimbursement for sexual assault medical forensic examinations, direct compensation to victims though Michigan's Crime Victim Compensation program, and supports the statewide victim notification system (MI-VINE).
...

Sheet Grief & Trauma Counselors
A1: Company | B1: Service | C1: Address | D1: Address 2 | E1: City | F1: State | G1: Zip Code | H1: Phone Number | I1: Email | J1: Website | K1: Notes
A2: Evolving Lives | B2: =VLOOKUP(A2,'Master List Resources&Referrals'!A:K,2,FALSE) -> Online therapy and coaching services throughout Michigan. Grief, Trauma, LGBTQ+, EMDR, and more. | C2: =VLOOKUP(A2,'Master List Resources&Referrals'!A:K,3,FALSE) -> 0 | D2: =VLOOKUP(A2,'Master List Resources&Referrals'!A:K,4,FALSE) -> 0 | E2: =VLOOKUP(A2,'Master List Resources&Referrals'!A:K,5,FALSE) -> 0 | F2: =VLOOKUP(A2,'Master List Resources&Referrals'!A:K,6,FALSE) -> 0 | G2: =VLOOKUP(A2,'Master List Resources&Referrals'!A:K,7,FALSE) -> 0 | H2: =VLOOKUP(A2,'Master List Resources&Referrals'!A:K,8,FALSE) -> Matt (248) 880-2554 Sarah (248) 520-0444 | I2: =VLOOKUP(A2,'Master List Resources&Referrals'!A:K,9,FALSE) -> evolvinglivesms@gmail.com | J2: =VLOOKUP(A2,'Master List Resources&Referrals'!A:K,10,FALSE) -> https://evolvinglivesinc.com/ | K2: =VLOOKUP(A2,'Master List Resources&Referrals'!A:K,11,FALSE) -> Our approach to treatment combines authentic relationship with the most effective transformational techniques in a digital service to foster whole person change. Whatever life challenges you may face and pain you may be experiencing, you can get the care you need from the comfort of your home, office, or wherever feels most therapeutic.
A3: Hegira Health | B3: =VLOOKUP(A3,'Master List Resources&Referrals'!A:K,2,FALSE) -> Mental Health, Behavioral Health | C3: =VLOOKUP(A3,'Master List Resources&Referrals'!A:K,3,FALSE) -> 37450 Schoolcraft Rd | D3: =VLOOKUP(A3,'Master List Resources&Referrals'!A:K,4,FALSE) -> 0 | E3: =VLOOKUP(A3,'Master List Resources&Referrals'!A:K,5,FALSE) -> Livonia | F3: =VLOOKUP(A3,'Master List Resources&Referrals'!A:K,6,FALSE) -> MI | G3: =VLOOKUP(A3,'Master List Resources&Referrals'!A:K,7,FALSE) -> 48150 | H3: =VLOOKUP(A3,'Master List Resources&Referrals'!A:K,8,FALSE) -> 734-499-1587 | I3: =VLOOKUP(A3,'Master List Resources&Referrals'!A:K,9,FALSE) -> 0 | J3: =VLOOKUP(A3,'Master List Resources&Referrals'!A:K,10,FALSE) -> https://www.hegirahealth.org/ | K3: =VLOOKUP(A3,'Master List Resources&Referrals'!A:K,11,FALSE) -> Comprehensive integrated behavioral health services for infants through older adults.
A4: KH Mental Health Wellness | B4: =VLOOKUP(A4,'Master List Resources&Referrals'!A:K,2,FALSE) -> Psychologist, Grief, Talk Therapy, Medication | C4: =VLOOKUP(A4,'Master List Resources&Referrals'!A:K,3,FALSE) -> 0 | D4: =VLOOKUP(A4,'Master List Resources&Referrals'!A:K,4,FALSE) -> 0 | E4: =VLOOKUP(A4,'Master List Resources&Referrals'!A:K,5,FALSE) -> 0 | F4: =VLOOKUP(A4,'Master List Resources&Referrals'!A:K,6,FALSE) -> 0 | G4: =VLOOKUP(A4,'Master List Resources&Referrals'!A:K,7,FALSE) -> 0 | H4: =VLOOKUP(A4,'Master List Resources&Referrals'!A:K,8,FALSE) -> text: 317-437-5850 | I4: =VLOOKUP(A4,'Master List Resources&Referrals'!A:K,9,FALSE) -> kristinhammoud@gmail.com | J4: =VLOOKUP(A4,'Master List Resources&Referrals'!A:K,10,FALSE) -> https://www.mymentalhealthwellness.com/ | K4: =VLOOKUP(A4,'Master List Resources&Referrals'!A:K,11,FALSE) -> Kristin Hammoud, PMH-CNS-NP
A5: My Mental Health Wellness - Kristin Hammoud, PMH-CNS-NP | B5: =VLOOKUP(A5,'Master List Resources&Referrals'!A:K,2,FALSE) -> Grief Therapy and pharmacological services. Phone number is for texting | C5: =VLOOKUP(A5,'Master List Resources&Referrals'!A:K,3,FALSE) -> 0 | D5: =VLOOKUP(A5,'Master List Resources&Referrals'!A:K,4,FALSE) -> 0 | E5: =VLOOKUP(A5,'Master List Resources&Referrals'!A:K,5,FALSE) -> 0 | F5: =VLOOKUP(A5,'Master List Resources&Referrals'!A:K,6,FALSE) -> 0 | G5: =VLOOKUP(A5,'Master List Resources&Referrals'!A:K,7,FALSE) -> 0 | H5: =VLOOKUP(A5,'Master List Resources&Referrals'!A:K,8,FALSE) -> 3174375850 | I5: =VLOOKUP(A5,'Master List Resources&Referrals'!A:K,9,FALSE) -> kristinhammoud@gmail.com | J5: =VLOOKUP(A5,'Master List Resources&Referrals'!A:K,10,FALSE) -> https://www.mymentalhealthwellness.com/ | K5: =VLOOKUP(A5,'Master List Resources&Referrals'!A:K,11,FALSE) -> Free 15-minute initial consultation. Deals with grief. Has been a volunteer with us before.
A6: New Normal Grief Consulting | B6: =VLOOKUP(A6,'Master List Resources&Referrals'!A:K,2,FALSE) -> Grief Consulting via Phone, Zoom, or In-Person | C6: =VLOOKUP(A6,'Master List Resources&Referrals'!A:K,3,FALSE) -> 0 | D6: =VLOOKUP(A6,'Master List Resources&Referrals'!A:K,4,FALSE) -> 0 | E6: =VLOOKUP(A6,'Master List Resources&Referrals'!A:K,5,FALSE) -> Rochester Hills | F6: =VLOOKUP(A6,'Master List Resources&Referrals'!A:K,6,FALSE) -> 0 | G6: =VLOOKUP(A6,'Master List Resources&Referrals'!A:K,7,FALSE) -> 0 | H6: =VLOOKUP(A6,'Master List Resources&Referrals'!A:K,8,FALSE) -> call/text (248) 825-3529 | I6: =VLOOKUP(A6,'Master List Resources&Referrals'!A:K,9,FALSE) -> Jenny@newnormalgriefconsulting.com | J6: =VLOOKUP(A6,'Master List Resources&Referrals'!A:K,10,FALSE) -> https://newnormalgriefconsulting.com/ | K6: =VLOOKUP(A6,'Master List Resources&Referrals'!A:K,11,FALSE) -> Free 30 minute initial consultation.
A7: New Oakland Family Centers | B7: =VLOOKUP(A7,'Master List Resources&Referrals'!A:K,2,FALSE) -> Mental Health Services, Eating disorder treatment, Face to Face, Intensive Crisis Stabilization, outpatient, ages 3 and up | C7: =VLOOKUP(A7,'Master List Resources&Referrals'!A:K,3,FALSE) -> Multiple Locations | D7: =VLOOKUP(A7,'Master List Resources&Referrals'!A:K,4,FALSE) -> 0 | E7: =VLOOKUP(A7,'Master List Resources&Referrals'!A:K,5,FALSE) -> 0 | F7: =VLOOKUP(A7,'Master List Resources&Referrals'!A:K,6,FALSE) -> 0 | G7: =VLOOKUP(A7,'Master List Resources&Referrals'!A:K,7,FALSE) -> 0 | H7: =VLOOKUP(A7,'Master List Resources&Referrals'!A:K,8,FALSE) -> 24/7 Emergency: (877) 800-1650 Non-emergency: (800) 395-3223 | I7: =VLOOKUP(A7,'Master List Resources&Referrals'!A:K,9,FALSE) -> 0 | J7: =VLOOKUP(A7,'Master List Resources&Referrals'!A:K,10,FALSE) -> https://newoakland.org/ | K7: =VLOOKUP(A7,'Master List Resources&Referrals'!A:K,11,FALSE) -> FACE to FACE: 24 hour partial hospital program for therapy, Crisis: for individuals who would meet th criteria for psychiatric hospital admissions who could be stabilized using less restrictive treatments, Mental Health treatment, Medication,
A8: PCS Counseling | B8: =VLOOKUP(A8,'Master List Resources&Referrals'!A:K,2,FALSE) -> Counseling, Mental Health, Integrated Health | C8: =VLOOKUP(A8,'Master List Resources&Referrals'!A:K,3,FALSE) -> 41740 Six Mile Rd | D8: =VLOOKUP(A8,'Master List Resources&Referrals'!A:K,4,FALSE) -> Suites 103-105 | E8: =VLOOKUP(A8,'Master List Resources&Referrals'!A:K,5,FALSE) -> Northville | F8: =VLOOKUP(A8,'Master List Resources&Referrals'!A:K,6,FALSE) -> MI | G8: =VLOOKUP(A8,'Master List Resources&Referrals'!A:K,7,FALSE) -> 48168 | H8: =VLOOKUP(A8,'Master List Resources&Referrals'!A:K,8,FALSE) -> 734-542-6969 | I8: =VLOOKUP(A8,'Master List Resources&Referrals'!A:K,9,FALSE) -> office@pcs-counseling.com | J8: =VLOOKUP(A8,'Master List Resources&Referrals'!A:K,10,FALSE) -> https://pcs-global.com/ | K8: =VLOOKUP(A8,'Master List Resources&Referrals'!A:K,11,FALSE) -> Children, Adolescents, Adults, Seniors Accepts Insurance, Out of Network Insurance, Cash Pay. Website searchable by Clinical Specialties and Services
A9: Resilient Heart Therapy - Rick Guttersohn, LMSW | B9: =VLOOKUP(A9,'Master List Resources&Referrals'!A:K,2,FALSE) -> Mentaly Health/Therapy ages 14 and up - Virtual - Takes Insurance. Podcast and Resources are also on the website. | C9: =VLOOKUP(A9,'Master List Resources&Referrals'!A:K,3,FALSE) -> 0 | D9: =VLOOKUP(A9,'Master List Resources&Referrals'!A:K,4,FALSE) -> 0 | E9: =VLOOKUP(A9,'Master List Resources&Referrals'!A:K,5,FALSE) -> Livonia | F9: =VLOOKUP(A9,'Master List Resources&Referrals'!A:K,6,FALSE) -> MI | G9: =VLOOKUP(A9,'Master List Resources&Referrals'!A:K,7,FALSE) -> 0 | H9: =VLOOKUP(A9,'Master List Resources&Referrals'!A:K,8,FALSE) -> 2486070002 | I9: =VLOOKUP(A9,'Master List Resources&Referrals'!A:K,9,FALSE) -> rick@resilientheartmi.com | J9: =VLOOKUP(A9,'Master List Resources&Referrals'!A:K,10,FALSE) -> https://www.resilientheartmi.com/ | K9: =VLOOKUP(A9,'Master List Resources&Referrals'!A:K,11,FALSE) -> Specialty Areas include: Grief & Loss (prolonged grief, anticipatory grief, suicide & overdose, traumatic loss, death of child/spouse/parent/sibling, stillbirth & miscarriage; Infertility, Non-death losses such as divorce, estrangement, foster/adoption, job loss, etc.), Depression & Anxiety, Shape & Low Self Esteem, Difficult Life Transitions, Professional Burnout, ADHD. Primarily virtual at the moment. Limited in-person requests in Livonia. https://www.psychologytoday.com/us/therapists/rick-guttersohn-livonia-mi/944461
A10: Solid Ground Counseling | B10: =VLOOKUP(A10,'Master List Resources&Referrals'!A:K,2,FALSE) -> New Moms/Postpartum Support Counseling/Therapy Support Groups Mental Health Testing Addiction Anger Management | C10: =VLOOKUP(A10,'Master List Resources&Referrals'!A:K,3,FALSE) -> Plymouth Office 41100 Plymouth Road Brighton Office 2000 Grand River Annex | D10: =VLOOKUP(A10,'Master List Resources&Referrals'!A:K,4,FALSE) -> Suite 110 Suite 400 | E10: =VLOOKUP(A10,'Master List Resources&Referrals'!A:K,5,FALSE) -> Plymouth Brighton | F10: =VLOOKUP(A10,'Master List Resources&Referrals'!A:K,6,FALSE) -> MI | G10: =VLOOKUP(A10,'Master List Resources&Referrals'!A:K,7,FALSE) -> 48170 48114 | H10: =VLOOKUP(A10,'Master List Resources&Referrals'!A:K,8,FALSE) -> 7349271201 | I10: =VLOOKUP(A10,'Master List Resources&Referrals'!A:K,9,FALSE) -> 0 | J10: =VLOOKUP(A10,'Master List Resources&Referrals'!A:K,10,FALSE) -> https://www.solidgroundcounseling.com | K10: =VLOOKUP(A10,'Master List Resources&Referrals'!A:K,11,FALSE) -> Groups: Teen Support (13-17), Anxiety Support (18-25), New Moms/Postpartum Support, First Responders, Spouses of First Responders. Individual Counseling for all ages: Grief and Loss; Parenting Skills; Sexual Integrity and Abuse; Family Dynamics; Anger Management; Addictions. Testing. Low-cost or free available with Master's Level Interns for those who do not have coverage or cannot afford the regular practitioners.
A11: Wayfinder Psychotherapy | B11: =VLOOKUP(A11,'Master List Resources&Referrals'!A:K,2,FALSE) -> Telehealth Mental Health and Grief Therapy for Teens and Adults | C11: =VLOOKUP(A11,'Master List Resources&Referrals'!A:K,3,FALSE) -> 0 | D11: =VLOOKUP(A11,'Master List Resources&Referrals'!A:K,4,FALSE) -> 0 | E11: =VLOOKUP(A11,'Master List Resources&Referrals'!A:K,5,FALSE) -> 0 | F11: =VLOOKUP(A11,'Master List Resources&Referrals'!A:K,6,FALSE) -> 0 | G11: =VLOOKUP(A11,'Master List Resources&Referrals'!A:K,7,FALSE) -> 0 | H11: =VLOOKUP(A11,'Master List Resources&Referrals'!A:K,8,FALSE) -> 2482668536 | I11: =VLOOKUP(A11,'Master List Resources&Referrals'!A:K,9,FALSE) -> WayfinderPsychotherapy@gmail.com | J11: =VLOOKUP(A11,'Master List Resources&Referrals'!A:K,10,FALSE) -> https://www.wayfinderpsychotherapy.net/ | K11: =VLOOKUP(A11,'Master List Resources&Referrals'!A:K,11,FALSE) -> Alexander Borrello - Clinical Mental Health Counselor. Counseling/Therapy for Teens and Adults: Depression, Bipolar Depression, Anxiety, Trauma, Grief, Traumatic Grief, Anticipatory Grief, Relationships, School/Work Stress

Sheet Police & First Responders
A1: Company | B1: Service | C1: Address | D1: Address 2 | E1: City | F1: State | G1: Zip Code | H1: Phone Number | I1: Email | J1: Website | K1: Notes
A2: Blue H.E.L.P. | B2: =VLOOKUP(A2,'Master List Resources&Referrals'!A:K,2,FALSE) -> Support for Families of First Responders who died by Suicide - | C2: =VLOOKUP(A2,'Master List Resources&Referrals'!A:K,3,FALSE) -> 0 | D2: =VLOOKUP(A2,'Master List Resources&Referrals'!A:K,4,FALSE) -> 0 | E2: =VLOOKUP(A2,'Master List Resources&Referrals'!A:K,5,FALSE) -> 0 | F2: =VLOOKUP(A2,'Master List Resources&Referrals'!A:K,6,FALSE) -> 0 | G2: =VLOOKUP(A2,'Master List Resources&Referrals'!A:K,7,FALSE) -> 0 | H2: =VLOOKUP(A2,'Master List Resources&Referrals'!A:K,8,FALSE) -> 0 | I2: =VLOOKUP(A2,'Master List Resources&Referrals'!A:K,9,FALSE) -> contact@1sthelp.org | J2: =VLOOKUP(A2,'Master List Resources&Referrals'!A:K,10,FALSE) -> https://bluehelp.org/ | K2: =VLOOKUP(A2,'Master List Resources&Referrals'!A:K,11,FALSE) -> It is the mission of Blue H.E.L.P. to reduce mental health stigma through education, advocate for benefits for those suffering from post-traumatic stress, acknowledge the service and sacrifice of law enforcement officers we lost to suicide, support families after a suicide and to bring awareness to suicide and mental health issues. Family Support: A suicide loss is unique, it can be difficult for families to share their experience with others who have not suffered the same type of loss. With the loss of thousands of law enforcement officers to suicide, we can put you in touch with another family who has experienced LEO suicide and knows what you are going through. No judgement, no stigma; just compassion and understanding. Care packages which honor your loved ones are shipped to you and events customized to your needs are hosted for and by you.
A3: Copline | B3: =VLOOKUP(A3,'Master List Resources&Referrals'!A:K,2,FALSE) -> Helpline for Police | C3: =VLOOKUP(A3,'Master List Resources&Referrals'!A:K,3,FALSE) -> 0 | D3: =VLOOKUP(A3,'Master List Resources&Referrals'!A:K,4,FALSE) -> 0 | E3: =VLOOKUP(A3,'Master List Resources&Referrals'!A:K,5,FALSE) -> 0 | F3: =VLOOKUP(A3,'Master List Resources&Referrals'!A:K,6,FALSE) -> 0 | G3: =VLOOKUP(A3,'Master List Resources&Referrals'!A:K,7,FALSE) -> 0 | H3: =VLOOKUP(A3,'Master List Resources&Referrals'!A:K,8,FALSE) -> 8002675463 | I3: =VLOOKUP(A3,'Master List Resources&Referrals'!A:K,9,FALSE) -> 0 | J3: =VLOOKUP(A3,'Master List Resources&Referrals'!A:K,10,FALSE) -> 0 | K3: =VLOOKUP(A3,'Master List Resources&Referrals'!A:K,11,FALSE) -> 24/7
A4: Copline - An Officer's Lifeline | B4: =VLOOKUP(A4,'Master List Resources&Referrals'!A:K,2,FALSE) -> Peer-Lead Crisis Hotline for Police Officers (active, previous, or retired) and their family members. Run entirely by Police Officers and their Family Members. | C4: =VLOOKUP(A4,'Master List Resources&Referrals'!A:K,3,FALSE) -> 0 | D4: =VLOOKUP(A4,'Master List Resources&Referrals'!A:K,4,FALSE) -> 0 | E4: =VLOOKUP(A4,'Master List Resources&Referrals'!A:K,5,FALSE) -> 0 | F4: =VLOOKUP(A4,'Master List Resources&Referrals'!A:K,6,FALSE) -> 0 | G4: =VLOOKUP(A4,'Master List Resources&Referrals'!A:K,7,FALSE) -> 0 | H4: =VLOOKUP(A4,'Master List Resources&Referrals'!A:K,8,FALSE) -> 24/7 Hotline Calls: 1-800-COPLINE 1-800-267-5463 Non-COPLINE calls: 1-732-577-8300 Ext. 8 | I4: =VLOOKUP(A4,'Master List Resources&Referrals'!A:K,9,FALSE) -> 0 | J4: =VLOOKUP(A4,'Master List Resources&Referrals'!A:K,10,FALSE) -> https://www.copline.org/ | K4: =VLOOKUP(A4,'Master List Resources&Referrals'!A:K,11,FALSE) -> COPLINE® IS OPERATIONAL 24 HOURS A DAY / 7 DAYS A WEEK Calls will be answered by a Retired Active Peer Listener - All calls and emails are strictly 100% CONFIDENTIAL COPLINE® has earned the trust of the Law Enforcement community by providing active listening through a hotline by maintaining complete confidentiality as well as anonymity if the caller chooses. We train competent, confident, committed, and compassionate retired officers to engage with callers on the daily stressors officers and their family members experience.
A5: Crisis Text Line | B5: =VLOOKUP(A5,'Master List Resources&Referrals'!A:K,2,FALSE) -> Helpline for First Responders | C5: =VLOOKUP(A5,'Master List Resources&Referrals'!A:K,3,FALSE) -> 0 | D5: =VLOOKUP(A5,'Master List Resources&Referrals'!A:K,4,FALSE) -> 0 | E5: =VLOOKUP(A5,'Master List Resources&Referrals'!A:K,5,FALSE) -> 0 | F5: =VLOOKUP(A5,'Master List Resources&Referrals'!A:K,6,FALSE) -> 0 | G5: =VLOOKUP(A5,'Master List Resources&Referrals'!A:K,7,FALSE) -> 0 | H5: =VLOOKUP(A5,'Master List Resources&Referrals'!A:K,8,FALSE) -> Text BADGE or 741-741 | I5: =VLOOKUP(A5,'Master List Resources&Referrals'!A:K,9,FALSE) -> 0 | J5: =VLOOKUP(A5,'Master List Resources&Referrals'!A:K,10,FALSE) -> 0 | K5: =VLOOKUP(A5,'Master List Resources&Referrals'!A:K,11,FALSE) -> 24/7
A6: Fire/EMS Helpline | B6: =VLOOKUP(A6,'Master List Resources&Referrals'!A:K,2,FALSE) -> Helpline for Fire and EMS personnel | C6: =VLOOKUP(A6,'Master List Resources&Referrals'!A:K,3,FALSE) -> 0 | D6: =VLOOKUP(A6,'Master List Resources&Referrals'!A:K,4,FALSE) -> 0 | E6: =VLOOKUP(A6,'Master List Resources&Referrals'!A:K,5,FALSE) -> 0 | F6: =VLOOKUP(A6,'Master List Resources&Referrals'!A:K,6,FALSE) -> 0 | G6: =VLOOKUP(A6,'Master List Resources&Referrals'!A:K,7,FALSE) -> 0 | H6: =VLOOKUP(A6,'Master List Resources&Referrals'!A:K,8,FALSE) -> 8667313473 | I6: =VLOOKUP(A6,'Master List Resources&Referrals'!A:K,9,FALSE) -> 0 | J6: =VLOOKUP(A6,'Master List Resources&Referrals'!A:K,10,FALSE) -> 0 | K6: =VLOOKUP(A6,'Master List Resources&Referrals'!A:K,11,FALSE) -> 24/7
A7: First Responders Bridge | B7: =VLOOKUP(A7,'Master List Resources&Referrals'!A:K,2,FALSE) -> FREE 3-Day Retreats for First Responders and their Significant Other. Participants provide their own transportation. (Retreats are in Ohio) | C7: =VLOOKUP(A7,'Master List Resources&Referrals'!A:K,3,FALSE) -> 0 | D7: =VLOOKUP(A7,'Master List Resources&Referrals'!A:K,4,FALSE) -> 0 | E7: =VLOOKUP(A7,'Master List Resources&Referrals'!A:K,5,FALSE) -> 0 | F7: =VLOOKUP(A7,'Master List Resources&Referrals'!A:K,6,FALSE) -> 0 | G7: =VLOOKUP(A7,'Master List Resources&Referrals'!A:K,7,FALSE) -> 0 | H7: =VLOOKUP(A7,'Master List Resources&Referrals'!A:K,8,FALSE) -> 614-271-4981 | I7: =VLOOKUP(A7,'Master List Resources&Referrals'!A:K,9,FALSE) -> 0 | J7: =VLOOKUP(A7,'Master List Resources&Referrals'!A:K,10,FALSE) -> https://firstrespondersbridge.org/ | K7: =VLOOKUP(A7,'Master List Resources&Referrals'!A:K,11,FALSE) -> The retreats are held at hotels and conference centers across the State of Ohio. They provide great lodging, food, meeting rooms and activities that meet our needs. Keynote, peer and clinician speakers, relaxing activities for First Responders and their significant other to help them find hope and healing. Depending on the location of each particular retreat, couples can expect activities such as group yoga (voluntary), chair massages, indoor/outdoor swimming, fitness room, sauna, and many more. Our goal is to not only heal the First Responder but the family unit as well. Retreats are free of cost. The retreat, lodging, food and activities are all paid for with donations from our caring, thoughtful sponsors who value and appreciate our First Responder heroes. All you have to pay for is the transportation to get to and from the retreat.
A8: Frontline Strong Together | B8: =VLOOKUP(A8,'Master List Resources&Referrals'!A:K,2,FALSE) -> Mental Health specifically for First Responders (Police, EMS, Fire, Dispatch, Corrections) and their families. | C8: =VLOOKUP(A8,'Master List Resources&Referrals'!A:K,3,FALSE) -> 0 | D8: =VLOOKUP(A8,'Master List Resources&Referrals'!A:K,4,FALSE) -> 0 | E8: =VLOOKUP(A8,'Master List Resources&Referrals'!A:K,5,FALSE) -> 0 | F8: =VLOOKUP(A8,'Master List Resources&Referrals'!A:K,6,FALSE) -> 0 | G8: =VLOOKUP(A8,'Master List Resources&Referrals'!A:K,7,FALSE) -> 0 | H8: =VLOOKUP(A8,'Master List Resources&Referrals'!A:K,8,FALSE) -> 833-34-STRONG 833-347-87664 | I8: =VLOOKUP(A8,'Master List Resources&Referrals'!A:K,9,FALSE) -> 0 | J8: =VLOOKUP(A8,'Master List Resources&Referrals'!A:K,10,FALSE) -> https://fst5.org/ | K8: =VLOOKUP(A8,'Master List Resources&Referrals'!A:K,11,FALSE) -> This website, created by first responders and mental health experts together, provides 24/7 live support, effective resources, and cutting-edge services to prevent and alleviate PTSD, anxiety, depression, and other frontline work-related mental health challenges.
A9: IAFF Alcohol Hotline | B9: =VLOOKUP(A9,'Master List Resources&Referrals'!A:K,2,FALSE) -> Hotline for Firefighters Only | C9: =VLOOKUP(A9,'Master List Resources&Referrals'!A:K,3,FALSE) -> 0 | D9: =VLOOKUP(A9,'Master List Resources&Referrals'!A:K,4,FALSE) -> 0 | E9: =VLOOKUP(A9,'Master List Resources&Referrals'!A:K,5,FALSE) -> 0 | F9: =VLOOKUP(A9,'Master List Resources&Referrals'!A:K,6,FALSE) -> 0 | G9: =VLOOKUP(A9,'Master List Resources&Referrals'!A:K,7,FALSE) -> 0 | H9: =VLOOKUP(A9,'Master List Resources&Referrals'!A:K,8,FALSE) -> 866-965-3074 | I9: =VLOOKUP(A9,'Master List Resources&Referrals'!A:K,9,FALSE) -> 0 | J9: =VLOOKUP(A9,'Master List Resources&Referrals'!A:K,10,FALSE) -> 0 | K9: =VLOOKUP(A9,'Master List Resources&Referrals'!A:K,11,FALSE) -> 24/7 Completely Confidential
A10: IAFF Hotline | B10: =VLOOKUP(A10,'Master List Resources&Referrals'!A:K,2,FALSE) -> Mental Health and PTSD Hotline for Firefighters Only. | C10: =VLOOKUP(A10,'Master List Resources&Referrals'!A:K,3,FALSE) -> 0 | D10: =VLOOKUP(A10,'Master List Resources&Referrals'!A:K,4,FALSE) -> 0 | E10: =VLOOKUP(A10,'Master List Resources&Referrals'!A:K,5,FALSE) -> 0 | F10: =VLOOKUP(A10,'Master List Resources&Referrals'!A:K,6,FALSE) -> 0 | G10: =VLOOKUP(A10,'Master List Resources&Referrals'!A:K,7,FALSE) -> 0 | H10: =VLOOKUP(A10,'Master List Resources&Referrals'!A:K,8,FALSE) -> 866-558-0597 | I10: =VLOOKUP(A10,'Master List Resources&Referrals'!A:K,9,FALSE) -> 0 | J10: =VLOOKUP(A10,'Master List Resources&Referrals'!A:K,10,FALSE) -> 0 | K10: =VLOOKUP(A10,'Master List Resources&Referrals'!A:K,11,FALSE) -> 24/7
A11: NAMI Michigan Director | B11: =VLOOKUP(A11,'Master List Resources&Referrals'!A:K,2,FALSE) -> Mental Health Training for Police Officers | C11: =VLOOKUP(A11,'Master List Resources&Referrals'!A:K,3,FALSE) -> 0 | D11: =VLOOKUP(A11,'Master List Resources&Referrals'!A:K,4,FALSE) -> 0 | E11: =VLOOKUP(A11,'Master List Resources&Referrals'!A:K,5,FALSE) -> 0 | F11: =VLOOKUP(A11,'Master List Resources&Referrals'!A:K,6,FALSE) -> 0 | G11: =VLOOKUP(A11,'Master List Resources&Referrals'!A:K,7,FALSE) -> 0 | H11: =VLOOKUP(A11,'Master List Resources&Referrals'!A:K,8,FALSE) -> 0 | I11: =VLOOKUP(A11,'Master List Resources&Referrals'!A:K,9,FALSE) -> kfischer@namimi.org | J11: =VLOOKUP(A11,'Master List Resources&Referrals'!A:K,10,FALSE) -> https://namimi.org/ | K11: =VLOOKUP(A11,'Master List Resources&Referrals'!A:K,11,FALSE) -> Kevin Fischer - Director of NAMI Michigan Provides training to Police Officers
A12: PTSD Foundation of America | B12: =VLOOKUP(A12,'Master List Resources&Referrals'!A:K,2,FALSE) -> Helpline for those suffering PTSD | C12: =VLOOKUP(A12,'Master List Resources&Referrals'!A:K,3,FALSE) -> 0 | D12: =VLOOKUP(A12,'Master List Resources&Referrals'!A:K,4,FALSE) -> 0 | E12: =VLOOKUP(A12,'Master List Resources&Referrals'!A:K,5,FALSE) -> 0 | F12: =VLOOKUP(A12,'Master List Resources&Referrals'!A:K,6,FALSE) -> 0 | G12: =VLOOKUP(A12,'Master List Resources&Referrals'!A:K,7,FALSE) -> 0 | H12: =VLOOKUP(A12,'Master List Resources&Referrals'!A:K,8,FALSE) -> 877-717-PTSD 877-717-7873 | I12: =VLOOKUP(A12,'Master List Resources&Referrals'!A:K,9,FALSE) -> 0 | J12: =VLOOKUP(A12,'Master List Resources&Referrals'!A:K,10,FALSE) -> 0 | K12: =VLOOKUP(A12,'Master List Resources&Referrals'!A:K,11,FALSE) -> Business Hours
A13: The Wounded Blue | B13: =VLOOKUP(A13,'Master List Resources&Referrals'!A:K,2,FALSE) -> For wounded and disabled Law Enforcement Officers (active or retired) and their families. Crisis Line, Peer Support, Assistance, Advocacy, Community Outreach & Education | C13: =VLOOKUP(A13,'Master List Resources&Referrals'!A:K,3,FALSE) -> 0 | D13: =VLOOKUP(A13,'Master List Resources&Referrals'!A:K,4,FALSE) -> 0 | E13: =VLOOKUP(A13,'Master List Resources&Referrals'!A:K,5,FALSE) -> 0 | F13: =VLOOKUP(A13,'Master List Resources&Referrals'!A:K,6,FALSE) -> 0 | G13: =VLOOKUP(A13,'Master List Resources&Referrals'!A:K,7,FALSE) -> 0 | H13: =VLOOKUP(A13,'Master List Resources&Referrals'!A:K,8,FALSE) -> 24/7 Immediate Assistance: 833-TWB-TALK (833-892-8255) TEXT "BLUE" TO 877-810-0911 | I13: =VLOOKUP(A13,'Master List Resources&Referrals'!A:K,9,FALSE) -> info@thewoundedblue.org | J13: =VLOOKUP(A13,'Master List Resources&Referrals'!A:K,10,FALSE) -> https://thewoundedblue.org/ | K13: =VLOOKUP(A13,'Master List Resources&Referrals'!A:K,11,FALSE) -> The Wounded Blue’s Mission is to improve the lives of injured and disabled Law Enforcement Officers through Support, Education, Assistance and Legislative Advocacy. We can de-stigmatize mental health within the law enforcement community through Leadership, Education, Advocacy and Dedication to America’s Law Enforcement Officers. Through The Wounded Blue’s Peer Support Advocate Program, Community Outreach & Education, the Wounded Blue will ensure that you are NEVER FORGOTTEN and NEVER ALONE.
B14: =VLOOKUP(A14,'Master List Resources&Referrals'!A:K,2,FALSE) -> #N/A | C14: =VLOOKUP(A14,'Master List Resources&Referrals'!A:K,3,FALSE) -> #N/A | D14: =VLOOKUP(A14,'Master List Resources&Referrals'!A:K,4,FALSE) -> #N/A | E14: =VLOOKUP(A14,'Master List Resources&Referrals'!A:K,5,FALSE) -> #N/A | F14: =VLOOKUP(A14,'Master List Resources&Referrals'!A:K,6,FALSE) -> #N/A | G14: =VLOOKUP(A14,'Master List Resources&Referrals'!A:K,7,FALSE) -> #N/A | H14: =VLOOKUP(A14,'Master List Resources&Referrals'!A:K,8,FALSE) -> #N/A | I14: =VLOOKUP(A14,'Master List Resources&Referrals'!A:K,9,FALSE) -> #N/A | J14: =VLOOKUP(A14,'Master List Resources&Referrals'!A:K,10,FALSE) -> #N/A | K14: =VLOOKUP(A14,'Master List Resources&Referrals'!A:K,11,FALSE) -> #N/A

Sheet BooksDocs&Podcasts
A1: Category | B1: Title | C1: Author(s)/Organizer(s) | D1: Link | E1: Notes
A2: *Please note: NGS=Not Grieving Specific
A3: Any Loss | B3: A MEAL FOR ME: Simple Strategies for Cooking for One | C3: Compiled for Hospice of Michigan | D3: https://arborhospice.org/wp-content/uploads/2023/08/A-Meal-For-Me-Cookbook.pdf | E3: Cookbook for those who need to learn to cook for one person after the loss of others in the household. Begins with grief-related information, nutrition, and Food Safety information for a variety of cooking experience levels.
A4: Any Loss | B4: Grief is Love Lost | C4: Dr. John Canine EDD, PhD and Eli Zaret | D4: https://griefislovelost.com/ | E4: Audio Sessions for Dealing with Grief
A5: Any Loss | B5: Michigan Resources for Grieving Families | C5: State of Michigan | D5: https://bit.ly/2SdRVwv | E5: PDF created by the State that lists Michigan agencies and facilities that providing grief support services, listed by County
A6: Cancer | B6: Cancer and Death: A Love Story in Two Voices | C6: Leah Vande Berg and Nick Trujillo
A7: Child and Teen Grief | B7: A Parent's Guide to Raising Grieving Children | C7: Phyllis Silverman and Madelyn Kelly
A8: Child and Teen Grief | B8: After a loved one dies - How children grieve and how parents and other adults can support them | C8: David J. Schonfeld, MD, and Marcia Quackenbush, MS, MFT, CHES | D8: https://www.schoolcrisiscenter.org/resources/loved-one-dies/
A9: Child and Teen Grief | B9: Healing a Child's Grieving Heart | C9: Alan Wolfelt
A10: Child and Teen Grief | B10: Helping Grieving Children and Teens | C10: Hospice of Michigan, Arbor Hospice, and Jo Elyn Nyman Programs for Children | D10: https://arborhospice.org/wp-content/uploads/2023/10/Helping-Grieving-Children-and-Teens-2022-11172022.pdf | E10: Educational resources for caring adults to help their child or teen during a terminal illness and after a death.
A11: Child and Teen Grief | B11: Nobody's Child Anymore | C11: Barbara Bartocci
A12: Child and Teen Grief | B12: Teen Grief Relief: Parenting with Understanding, Support & Guidance | C12: Heidi Horsley, Gloria Horsley and Betty Wright
A13: Child and Teen Grief | B13: The Grieving Child: A Parent's Guide | C13: Helen Fitzgerald
A14: Child and Teen Grief | B14: The Grieving Teen: A Guide for Teenagers and Their Friends | C14: Helen Fitzgerald
A15: Child and Teen Grief | B15: We Get It: Voices of Grieving College Students and Young Adults | C15: Heather Servaty-Seib and David C. Fajgenbaum
A16: Child and Teen Grief | B16: When Parents Die: A Guide for Adults | C16: Edward Myers
A17: Child and Teen Grief | B17: When Parents Die: Learning to Live with the Loss of a Parent | C17: Rebecca Abrams
A18: Child Loss | B18: A Grief Unveiled: One Father's Journey Through the Loss of a Child | C18: Gregory Floyd
A19: Child Loss | B19: Giving Sorrow Words | C19: Candy Lightner and Nancy Hathaway
A20: Child Loss | B20: How to Survive the Loss of a Child | C20: Catherine Sanders
A21: Child Loss | B21: Life after the Death of My Son: What I'm Learning | C21: Dennis Apple
A22: Child Loss | B22: The Grieving Garden: Living with the Death of a Child | C22: Suzanne Redfern and Susan K. Gilbert
... A29: General Grief | B29: The Other Side of Sadness | C29: George Bonanno
A30: Infant/Pregnancy Loss | B30: Guys and Grief - Podcast for fathers who have experienced Pregnancy or Infant Loss | D30: https://open.spotify.com/show/4zIpSLSHweixD80Tgybtp2
A31: Law Enforcement | B31: The Price They Pay | C31: Karen Solomon, Jeffrey M. McGill | D31: https://www.amazon.com/Price-They-Pay-Karen-Solomon/dp/0986322164 | E31: Multiple types of Law Enforcement losses (witnessing traumatic death, experiencing injury and permanent disability, etc.)
A32: NGS - Adolescent Depression* | B32: What Families Need to Know about Adolescent Depression | C32: National Alliance on Mental Illness | D32: https://24-7.master-print.com/NAMI/UserJCatalog.aspx
A33: NGS - Substance Use Recovery* | B33: I'm Still a Person: The Stigma of Substance Use & Power of Respect | C33: Dr. Audrey Begun, MSW, PhD, with help from many in recovery and their families | D33: https://faceaddictionnow.org/stigma | E33: Graphic Novel version available at: https://www.stillaperson.com/graphicnovel
A34: Parent Loss | B34: Midlife Orphan: Facing Life's Changes Now That Your Parents Are Gone | C34: Jane Brooks | E34: Parent loss in adulthood
A35: Pregnancy/Infant loss | B35: The Pregnancy Loss Guidebook: Coping Well with Pregnancy and Infant Loss | C35: Monica Sholar Anderson (Remembering Cherubs Founder) | D35: https://www.rememberingcherubs.org/ | E35: Consider referring the person through their website, so they can receive the book as part of the Ongoing Support Toolkit (free).
A36: Siblings Grief | B36: Surviving the Death of a Sibling | C36: T.J. Wray
A37: Siblings Grief | B37: The Empty Room: Understanding Sibling Loss | C37: Elizabeth DeVita-Raeburn
A38: Spouse Loss | B38: A Handbook for Widowers | C38: Ed Ames
A39: Spouse Loss | B39: From We to Me: Embracing Life Again After the Death or Divorce of a Spouse | C39: Susan J. Zonnebelt-Smeenge and Robert C. De Vries
A40: Spouse Loss | B40: Getting to the Other Side of Grief: Overcoming the Loss of a Spouse | C40: Susan J. Zonnebelt-Smeenge and Robert C. De Vries
A41: Spouse Loss | B41: I'm Grieving as Fast as I Can: How Young Widows and Widowers Cope and Heal | C41: Linda Feinberg
A42: Spouse Loss | B42: Living Fully in the Shadow of Death: Assurance and Guidance to Finish Well | C42: Susan J. Zonnebelt-Smeenge and Robert C. De Vries
A43: Spouse Loss | B43: Swallowed by a Snake: The Gift of the Masculine Side of Healing | C43: Tom Golden
A44: Spouse Loss | B44: The Empty Chair: Handling Grief on Holidays and Special Occasions | C44: Susan J. Zonnebelt-Smeenge and Robert C. De Vries
A45: Spouse Loss | B45: The Tender Scar: Life after the Death of a Spouse | C45: Richard Mabry
A46: Spouse Loss | B46: Traveling through Grief: Learning to Live Again after the Death of a Loved One | C46: Susan J. Zonnebelt-Smeenge and Robert C. De Vries
...

Sheet Food, Low-Income Resources
A1: Company/Organization | B1: Service | C1: Address | D1: Address 2 | E1: City | F1: State | G1: Zip | H1: Phone | I1: Email | J1: Website | K1: Notes
A2: Community Resource Directory by findhelp | B2: =VLOOKUP(A2,'Master List Resources&Referrals'!A:K,2,FALSE) -> Search and Connect to Social Care | C2: =VLOOKUP(A2,'Master List Resources&Referrals'!A:K,3,FALSE) -> 0 | D2: =VLOOKUP(A2,'Master List Resources&Referrals'!A:K,4,FALSE) -> 0 | E2: =VLOOKUP(A2,'Master List Resources&Referrals'!A:K,5,FALSE) -> 0 | F2: =VLOOKUP(A2,'Master List Resources&Referrals'!A:K,6,FALSE) -> 0 | G2: =VLOOKUP(A2,'Master List Resources&Referrals'!A:K,7,FALSE) -> 0 | H2: =VLOOKUP(A2,'Master List Resources&Referrals'!A:K,8,FALSE) -> 0 | I2: =VLOOKUP(A2,'Master List Resources&Referrals'!A:K,9,FALSE) -> 0 | J2: =VLOOKUP(A2,'Master List Resources&Referrals'!A:K,10,FALSE) -> https://communityresources.trinity-health.org/ | K2: =VLOOKUP(A2,'Master List Resources&Referrals'!A:K,11,FALSE) -> Website helps find local resources by Zip Code and Type of need. Site has translation available to dozens of languages.
A3: Crossroads | B3: =VLOOKUP(A3,'Master List Resources&Referrals'!A:K,2,FALSE) -> Resources and Services for low-income populations. Listed in Notes section. | C3: =VLOOKUP(A3,'Master List Resources&Referrals'!A:K,3,FALSE) -> 2424 West Grand Boulevard | D3: =VLOOKUP(A3,'Master List Resources&Referrals'!A:K,4,FALSE) -> 0 | E3: =VLOOKUP(A3,'Master List Resources&Referrals'!A:K,5,FALSE) -> Detroit | F3: =VLOOKUP(A3,'Master List Resources&Referrals'!A:K,6,FALSE) -> MI | G3: =VLOOKUP(A3,'Master List Resources&Referrals'!A:K,7,FALSE) -> 48208 | H3: =VLOOKUP(A3,'Master List Resources&Referrals'!A:K,8,FALSE) -> (313) 831-2000 | I3: =VLOOKUP(A3,'Master List Resources&Referrals'!A:K,9,FALSE) -> info@crossroadsofmichigan.org | J3: =VLOOKUP(A3,'Master List Resources&Referrals'!A:K,10,FALSE) -> www.crossroadsofmichigan.org | K3: =VLOOKUP(A3,'Master List Resources&Referrals'!A:K,11,FALSE) -> Resources: Transportation (Bus Tickets), Birth certificate retrieval, Identification retrieval, Food, Clothing, Personal hygiene products, Diapers, Formula, Baby clothing. Supports: Lifetime Opportunities for Children, Permanent Employment coaching, Crisis Reduction and Long-Term Stability, Fulfilling Immediate Needs, Weekly Hot Meals, Children’s Summer Lunch
A4: Developing K.I.D.S. | B4: =VLOOKUP(A4,'Master List Resources&Referrals'!A:K,2,FALSE) -> (Developing Kingdoms in Different Stages) Free High Quality Programs In Detroit For Youth, Their Families, And Community Members | C4: =VLOOKUP(A4,'Master List Resources&Referrals'!A:K,3,FALSE) -> 24230 W. McNichols St. | D4: =VLOOKUP(A4,'Master List Resources&Referrals'!A:K,4,FALSE) -> 0 | E4: =VLOOKUP(A4,'Master List Resources&Referrals'!A:K,5,FALSE) -> Detroit | F4: =VLOOKUP(A4,'Master List Resources&Referrals'!A:K,6,FALSE) -> MI | G4: =VLOOKUP(A4,'Master List Resources&Referrals'!A:K,7,FALSE) -> 48219 | H4: =VLOOKUP(A4,'Master List Resources&Referrals'!A:K,8,FALSE) -> Phone & Fax: 888-294-6554 | I4: =VLOOKUP(A4,'Master List Resources&Referrals'!A:K,9,FALSE) -> info@developingkids.org | J4: =VLOOKUP(A4,'Master List Resources&Referrals'!A:K,10,FALSE) -> www.developingkids.org | K4: =VLOOKUP(A4,'Master List Resources&Referrals'!A:K,11,FALSE) -> Youth Development afterschool and summer camp activities for ages 5-18: College Readiness, Entrepreneurship, Life Skills & Social Development, Mental Health & Wellness, Community Service, Academic Enrichment & Homework Help Workforce Development We empower individuals ages 14-24 with essential skills for a seamless entry into the professional world. Ongoing support for personal and professional growth, Summer employment opportunities, Job placements, mentorships & incentives Community Engagement Provide Resources & Referrels, Special Events & Projects, Workforce Development, Support for Alumni (college, trade school, adulthood, workforce)
